BEGIN:VCALENDAR
VERSION:2.0
PRODID:-//Bolero Snort Brewery - ECPv6.15.20//NONSGML v1.0//EN
CALSCALE:GREGORIAN
METHOD:PUBLISH
X-ORIGINAL-URL:https://bolerosnort.com
X-WR-CALDESC:Events for Bolero Snort Brewery
REFRESH-INTERVAL;VALUE=DURATION:PT1H
X-Robots-Tag:noindex
X-PUBLISHED-TTL:PT1H
BEGIN:VTIMEZONE
TZID:America/New_York
BEGIN:DAYLIGHT
TZOFFSETFROM:-0500
TZOFFSETTO:-0400
TZNAME:EDT
DTSTART:20250309T070000
END:DAYLIGHT
BEGIN:STANDARD
TZOFFSETFROM:-0400
TZOFFSETTO:-0500
TZNAME:EST
DTSTART:20251102T060000
END:STANDARD
BEGIN:DAYLIGHT
TZOFFSETFROM:-0500
TZOFFSETTO:-0400
TZNAME:EDT
DTSTART:20260308T070000
END:DAYLIGHT
BEGIN:STANDARD
TZOFFSETFROM:-0400
TZOFFSETTO:-0500
TZNAME:EST
DTSTART:20261101T060000
END:STANDARD
BEGIN:DAYLIGHT
TZOFFSETFROM:-0500
TZOFFSETTO:-0400
TZNAME:EDT
DTSTART:20270314T070000
END:DAYLIGHT
BEGIN:STANDARD
TZOFFSETFROM:-0400
TZOFFSETTO:-0500
TZNAME:EST
DTSTART:20271107T060000
END:STANDARD
END:VTIMEZONE
BEGIN:VEVENT
DTSTART;TZID=America/New_York:20260424T200000
DTEND;TZID=America/New_York:20260424T220000
DTSTAMP:20260424T125931
CREATED:20260402T192341Z
LAST-MODIFIED:20260402T192341Z
UID:5715-1777060800-1777068000@bolerosnort.com
SUMMARY:Next Stop Comedy Show
DESCRIPTION:Next Stop Comedy returns with another night of great local comedians and awesome craft beer. \nFood Truck will be outside all night. \nWe encourage ticket purchase in advance.
URL:https://bolerosnort.com/event/next-stop-comedy-show-2/
LOCATION:Bolero Snort Brewery\, 316 20th Street\, Carlstadt\, NJ\, 07072\, United States
END:VEVENT
BEGIN:VEVENT
DTSTART;TZID=America/New_York:20260425T120000
DTEND;TZID=America/New_York:20260425T160000
DTSTAMP:20260424T125931
CREATED:20260409T202516Z
LAST-MODIFIED:20260409T202724Z
UID:5722-1777118400-1777132800@bolerosnort.com
SUMMARY:The Beer Run 5k + Beer Fest
DESCRIPTION:
URL:https://bolerosnort.com/event/the-beer-run-5k-beer-fest/
LOCATION:Allaire Village\, 4263 Atlantic Ave\, Wall Township\, NJ\, 07727\, United States
ORGANIZER;CN="Beacon Events":MAILTO:joey@beaconevents.biz
END:VEVENT
BEGIN:VEVENT
DTSTART;TZID=America/New_York:20260425T120000
DTEND;TZID=America/New_York:20260425T170000
DTSTAMP:20260424T125931
CREATED:20260402T192537Z
LAST-MODIFIED:20260402T192613Z
UID:5716-1777118400-1777136400@bolerosnort.com
SUMMARY:Team Skinny Pig Charity Event Benefitting Dana Farber Cancer Institute
DESCRIPTION:Please stand by for more information.
URL:https://bolerosnort.com/event/team-skinny-pig-charity-event-benefitting-dana-farber-cancer-institute/
LOCATION:Bolero Snort Brewery\, 316 20th Street\, Carlstadt\, NJ\, 07072\, United States
END:VEVENT
BEGIN:VEVENT
DTSTART;TZID=America/New_York:20260426T140000
DTEND;TZID=America/New_York:20260426T163000
DTSTAMP:20260424T125931
CREATED:20260402T193037Z
LAST-MODIFIED:20260402T193037Z
UID:5718-1777212000-1777221000@bolerosnort.com
SUMMARY:Sourdough Sweetie Presents: Sourdough Starter Course
DESCRIPTION:Please see below from Sourdough Sweetie:  \n  \nCome join us on our sourdough brewery tour 26 at Bolero Snort Brewery in Carlsadt  and discover the art of sourdough baking from start to finish. Learn step by step how to make sourdough\, maintain and feed your starter\, and shape and fold your own dough with guidance from our experts. While you bake\, taste delicious brews from the brewery and enjoy a fun\, relaxed atmosphere perfect for fellow sourdough enthusiasts. This hands-on class at 2PM on 4/26 is the perfect way to deepen your baking skills and connect with the community. Experience the joy of sourdough with Sourdough Sweetie in a truly unique setting! \n  \n* Must purchase sourdough kit at class for $35 Kit includes: \n– sourdough starter \n– banaton basket \n– cheesecloth \n– danish whisk \n– scoring tool \n– recipes \n– instructions on care of sourdough bread \n– bread bag & parchment paper \n– apron \n  \nThe sourdough kit incudes everything you need for your sourdough journey! \n  \n* There will be a sourdough tasting with lite sourdough bites to enjoy. \n  \n* No refunds on tickets. If class is cancelled due to teacher illness or emergency then class will have a take up date or you are free to join any other sourdough class that is available
URL:https://bolerosnort.com/event/sourdough-sweetie-presents-sourdough-starter-course/
LOCATION:Bolero Snort Brewery\, 316 20th Street\, Carlstadt\, NJ\, 07072\, United States
END:VEVENT
END:VCALENDAR