BEGIN:VCALENDAR
VERSION:2.0
PRODID:-//Bolero Snort Brewery - ECPv6.15.20//NONSGML v1.0//EN
CALSCALE:GREGORIAN
METHOD:PUBLISH
X-ORIGINAL-URL:https://bolerosnort.com
X-WR-CALDESC:Events for Bolero Snort Brewery
REFRESH-INTERVAL;VALUE=DURATION:PT1H
X-Robots-Tag:noindex
X-PUBLISHED-TTL:PT1H
BEGIN:VTIMEZONE
TZID:America/New_York
BEGIN:DAYLIGHT
TZOFFSETFROM:-0500
TZOFFSETTO:-0400
TZNAME:EDT
DTSTART:20230312T070000
END:DAYLIGHT
BEGIN:STANDARD
TZOFFSETFROM:-0400
TZOFFSETTO:-0500
TZNAME:EST
DTSTART:20231105T060000
END:STANDARD
BEGIN:DAYLIGHT
TZOFFSETFROM:-0500
TZOFFSETTO:-0400
TZNAME:EDT
DTSTART:20240310T070000
END:DAYLIGHT
BEGIN:STANDARD
TZOFFSETFROM:-0400
TZOFFSETTO:-0500
TZNAME:EST
DTSTART:20241103T060000
END:STANDARD
BEGIN:DAYLIGHT
TZOFFSETFROM:-0500
TZOFFSETTO:-0400
TZNAME:EDT
DTSTART:20250309T070000
END:DAYLIGHT
BEGIN:STANDARD
TZOFFSETFROM:-0400
TZOFFSETTO:-0500
TZNAME:EST
DTSTART:20251102T060000
END:STANDARD
END:VTIMEZONE
BEGIN:VEVENT
DTSTART;TZID=America/New_York:20240107T120000
DTEND;TZID=America/New_York:20240107T170000
DTSTAMP:20260420T214538
CREATED:20231221T165117Z
LAST-MODIFIED:20231221T165117Z
UID:4768-1704628800-1704646800@bolerosnort.com
SUMMARY:Dungeons 'n Drafts comes to Bolero!
DESCRIPTION:Sunday\, January 7th\, 2024\nDungeons ‘n Drafts comes to Bolero!\nStart Time: 12PM – Upstairs Tasting Room\n$15 tickets available here:\nhttps://tinyurl.com/dndatbolero\nAll skill levels welcome!
URL:https://bolerosnort.com/event/dungeons-n-drafts-comes-to-bolero/
LOCATION:NJ
END:VEVENT
BEGIN:VEVENT
DTSTART;TZID=America/New_York:20240112T200000
DTEND;TZID=America/New_York:20240112T220000
DTSTAMP:20260420T214538
CREATED:20231221T170410Z
LAST-MODIFIED:20231221T170410Z
UID:4774-1705089600-1705096800@bolerosnort.com
SUMMARY:Boston Comedy Club Presents: Stand-Up Comedy @ Bolero Snort Brewery
DESCRIPTION:Friday\, January 12th\nBoston Comedy Club Presents: Stand-Up Comedy @ Bolero Snort Brewery\nThe North East’s Best Comedy Show Comes to Carlstadt.\n\nStarts at 8PM | Tickets Here or At Door:\nhttps://tinyurl.com/bostoncomedyclub
URL:https://bolerosnort.com/event/boston-comedy-club-presents-stand-up-comedy-bolero-snort-brewery/
LOCATION:NJ
END:VEVENT
BEGIN:VEVENT
DTSTART;VALUE=DATE:20240124
DTEND;VALUE=DATE:20240125
DTSTAMP:20260420T214538
CREATED:20231214T000338Z
LAST-MODIFIED:20231214T000338Z
UID:4764-1706054400-1706140799@bolerosnort.com
SUMMARY:Atlantic City Beer Festival Ticketing Event @ Bolero Snort
DESCRIPTION:Hangout with the crew from AC Beer Fest and buy your tickets without the Ticketmaster Fees! \n \nTickets will be $75 (+tax) until Feb 20th & then increase to $85 (+tax)! \n \n*First pour on them when you purchase on this day.* 
URL:https://bolerosnort.com/event/atlantic-city-beer-festival-ticketing-event-bolero-snort/
LOCATION:NJ
END:VEVENT
BEGIN:VEVENT
DTSTART;TZID=America/New_York:20240124T170000
DTEND;TZID=America/New_York:20240124T190000
DTSTAMP:20260420T214538
CREATED:20231221T165640Z
LAST-MODIFIED:20231221T165640Z
UID:4771-1706115600-1706122800@bolerosnort.com
SUMMARY:BEST TRIVIA EVER Presents: WCW Trivia with Eric Bischoff
DESCRIPTION:Wednesday\, January 24th\, 2024\nBEST TRIVIA EVER Presents: WCW Trivia with Eric Bischoff\n5-7pm | Meet + Greet with Eric Bischoff\n7:30pm | Trivia Begins\nTickets ($12) Available Here:\n\nhttps://tinyurl.com/ericbischofftrivia
URL:https://bolerosnort.com/event/best-trivia-ever-presents-wcw-trivia-with-eric-bischoff/
LOCATION:NJ
END:VEVENT
END:VCALENDAR