BEGIN:VCALENDAR
VERSION:2.0
PRODID:-//Bolero Snort Brewery - ECPv6.15.20//NONSGML v1.0//EN
CALSCALE:GREGORIAN
METHOD:PUBLISH
X-ORIGINAL-URL:https://bolerosnort.com
X-WR-CALDESC:Events for Bolero Snort Brewery
REFRESH-INTERVAL;VALUE=DURATION:PT1H
X-Robots-Tag:noindex
X-PUBLISHED-TTL:PT1H
BEGIN:VTIMEZONE
TZID:America/New_York
BEGIN:DAYLIGHT
TZOFFSETFROM:-0500
TZOFFSETTO:-0400
TZNAME:EDT
DTSTART:20210314T070000
END:DAYLIGHT
BEGIN:STANDARD
TZOFFSETFROM:-0400
TZOFFSETTO:-0500
TZNAME:EST
DTSTART:20211107T060000
END:STANDARD
BEGIN:DAYLIGHT
TZOFFSETFROM:-0500
TZOFFSETTO:-0400
TZNAME:EDT
DTSTART:20220313T070000
END:DAYLIGHT
BEGIN:STANDARD
TZOFFSETFROM:-0400
TZOFFSETTO:-0500
TZNAME:EST
DTSTART:20221106T060000
END:STANDARD
BEGIN:DAYLIGHT
TZOFFSETFROM:-0500
TZOFFSETTO:-0400
TZNAME:EDT
DTSTART:20230312T070000
END:DAYLIGHT
BEGIN:STANDARD
TZOFFSETFROM:-0400
TZOFFSETTO:-0500
TZNAME:EST
DTSTART:20231105T060000
END:STANDARD
END:VTIMEZONE
BEGIN:VEVENT
DTSTART;TZID=America/New_York:20221119T140000
DTEND;TZID=America/New_York:20221119T230000
DTSTAMP:20260424T014942
CREATED:20221003T164257Z
LAST-MODIFIED:20221003T164257Z
UID:4574-1668866400-1668898800@bolerosnort.com
SUMMARY:Festival of Friendship
DESCRIPTION:Come join us as we host a day of collabs with some of our favorite breweries. \n  \nMore info to come.
URL:https://bolerosnort.com/event/festival-of-friendship/
LOCATION:NJ
END:VEVENT
BEGIN:VEVENT
DTSTART;TZID=America/New_York:20221123T180000
DTEND;TZID=America/New_York:20221123T220000
DTSTAMP:20260424T014942
CREATED:20221003T164009Z
LAST-MODIFIED:20221003T164036Z
UID:4570-1669226400-1669240800@bolerosnort.com
SUMMARY:Survivor Homecoming Watch Party with Jonny Fairplay
DESCRIPTION:We are excited to announce that on November 23rd\, we will once again be hosting Survivor Legend\, Jonny Fairplay for our Survivor Homecoming Watch Party!!\n\n\nCome hang with Jonny and other legends of the game as we host the most intimate and personal viewing party out there\, featuring Survivor Trivia\, Special Beer Releases\, and of course\, a live viewing of the latest episode of Survivor.\n\n\nYou never know who might swing by!\n\n\nVIP and General Admission Tickets are on sale now! Hit the link in below to secure yours today!
URL:https://bolerosnort.com/event/survivorhomecoming/
LOCATION:Bolero Snort Brewery\, 316 20th Street\, Carlstadt\, NJ\, 07072\, United States
END:VEVENT
BEGIN:VEVENT
DTSTART;TZID=America/New_York:20221125T140000
DTEND;TZID=America/New_York:20221125T170000
DTSTAMP:20260424T014942
CREATED:20221114T154221Z
LAST-MODIFIED:20221114T154221Z
UID:4636-1669384800-1669395600@bolerosnort.com
SUMMARY:USA vs. England World Cup Watch Party
DESCRIPTION:Party Like It’s 1776!\nWe are excited to announce that we will be hosting a watch party for the USA vs. England Fifa World Cup Match on Friday\, November 25th!! Come rocking your Red White and Blue and cheer on our boys with some ice-cold beer!!
URL:https://bolerosnort.com/event/worldcupwatchparty/
LOCATION:Bolero Snort Brewery\, 316 20th Street\, Carlstadt\, NJ\, 07072\, United States
ATTACH;FMTTYPE=image/png:https://bolerosnort.com/wp-content/uploads/2022/11/fifa-flyer_1.png
END:VEVENT
END:VCALENDAR