BEGIN:VCALENDAR
VERSION:2.0
PRODID:-//Bolero Snort Brewery - ECPv6.15.20//NONSGML v1.0//EN
CALSCALE:GREGORIAN
METHOD:PUBLISH
X-WR-CALNAME:Bolero Snort Brewery
X-ORIGINAL-URL:https://bolerosnort.com
X-WR-CALDESC:Events for Bolero Snort Brewery
REFRESH-INTERVAL;VALUE=DURATION:PT1H
X-Robots-Tag:noindex
X-PUBLISHED-TTL:PT1H
BEGIN:VTIMEZONE
TZID:America/New_York
BEGIN:DAYLIGHT
TZOFFSETFROM:-0500
TZOFFSETTO:-0400
TZNAME:EDT
DTSTART:20210314T070000
END:DAYLIGHT
BEGIN:STANDARD
TZOFFSETFROM:-0400
TZOFFSETTO:-0500
TZNAME:EST
DTSTART:20211107T060000
END:STANDARD
BEGIN:DAYLIGHT
TZOFFSETFROM:-0500
TZOFFSETTO:-0400
TZNAME:EDT
DTSTART:20220313T070000
END:DAYLIGHT
BEGIN:STANDARD
TZOFFSETFROM:-0400
TZOFFSETTO:-0500
TZNAME:EST
DTSTART:20221106T060000
END:STANDARD
BEGIN:DAYLIGHT
TZOFFSETFROM:-0500
TZOFFSETTO:-0400
TZNAME:EDT
DTSTART:20230312T070000
END:DAYLIGHT
BEGIN:STANDARD
TZOFFSETFROM:-0400
TZOFFSETTO:-0500
TZNAME:EST
DTSTART:20231105T060000
END:STANDARD
END:VTIMEZONE
BEGIN:VEVENT
DTSTART;TZID=America/New_York:20220617T183000
DTEND;TZID=America/New_York:20220617T220000
DTSTAMP:20260419T123252
CREATED:20220322T162908Z
LAST-MODIFIED:20220421T010500Z
UID:4031-1655490600-1655503200@bolerosnort.com
SUMMARY:Zane Lamprey Lager Than Life Comedy Tour
DESCRIPTION:Zane Lamprey\, award-winning travel show host and comedian\, performs his new stand-up comedy show Lager than Life\, based on his experiences while shooting Three Sheets and Drinking Made Easy. Known for being the guy who get’s paid to travel around the world and drink\, Zane has found himself in many awkward situations\, which he’d love to tell you about! Join us for a night of comedy and delicious craft beer. \nThis event is strictly 21+ \nIf this event is cancelled\, tickets will automatically be applied toward a rescheduled performance. Unfortunately refunds can not be given after seven days of purchase\, or within 30 days of the event.
URL:https://bolerosnort.com/event/zane22/
LOCATION:Bolero Snort Brewery\, 316 20th Street\, Carlstadt\, NJ\, 07072\, United States
ATTACH;FMTTYPE=image/jpeg:https://bolerosnort.com/wp-content/uploads/2022/03/8295a125ee4f7941e9a923e0f52dbdba632041e742969f5d7003ffb3daa5990f-rimg-w1200-h600-gmir.jpg
END:VEVENT
END:VCALENDAR