BEGIN:VCALENDAR
VERSION:2.0
PRODID:-//Bolero Snort Brewery - ECPv6.15.20//NONSGML v1.0//EN
CALSCALE:GREGORIAN
METHOD:PUBLISH
X-WR-CALNAME:Bolero Snort Brewery
X-ORIGINAL-URL:https://bolerosnort.com
X-WR-CALDESC:Events for Bolero Snort Brewery
REFRESH-INTERVAL;VALUE=DURATION:PT1H
X-Robots-Tag:noindex
X-PUBLISHED-TTL:PT1H
BEGIN:VTIMEZONE
TZID:America/New_York
BEGIN:DAYLIGHT
TZOFFSETFROM:-0500
TZOFFSETTO:-0400
TZNAME:EDT
DTSTART:20250309T070000
END:DAYLIGHT
BEGIN:STANDARD
TZOFFSETFROM:-0400
TZOFFSETTO:-0500
TZNAME:EST
DTSTART:20251102T060000
END:STANDARD
BEGIN:DAYLIGHT
TZOFFSETFROM:-0500
TZOFFSETTO:-0400
TZNAME:EDT
DTSTART:20260308T070000
END:DAYLIGHT
BEGIN:STANDARD
TZOFFSETFROM:-0400
TZOFFSETTO:-0500
TZNAME:EST
DTSTART:20261101T060000
END:STANDARD
BEGIN:DAYLIGHT
TZOFFSETFROM:-0500
TZOFFSETTO:-0400
TZNAME:EDT
DTSTART:20270314T070000
END:DAYLIGHT
BEGIN:STANDARD
TZOFFSETFROM:-0400
TZOFFSETTO:-0500
TZNAME:EST
DTSTART:20271107T060000
END:STANDARD
END:VTIMEZONE
BEGIN:VEVENT
DTSTART;TZID=America/New_York:20260323T190000
DTEND;TZID=America/New_York:20260323T210000
DTSTAMP:20260422T172054
CREATED:20260317T170642Z
LAST-MODIFIED:20260317T170642Z
UID:5666-1774292400-1774299600@bolerosnort.com
SUMMARY:FDU Women's Basketball Watch Party @ The Straphanger
DESCRIPTION:Come try our collaborative American Lager with Fairleigh Dickinson University — BREW42 — and support the amazing women’s basketball team on their continued quest for glory as they remain undefeated in their conference.
URL:https://bolerosnort.com/event/fdu-womens-basketball-watch-party-the-straphanger/
LOCATION:The Straphanger\, 126 Anderson Street\, Hackensack\, NJ\, 07601\, United States
ORGANIZER;CN="Bolero Snort Brewery":MAILTO:info@bolerosnort.com
END:VEVENT
END:VCALENDAR