BEGIN:VCALENDAR
VERSION:2.0
PRODID:-//Bolero Snort Brewery - ECPv6.15.20//NONSGML v1.0//EN
CALSCALE:GREGORIAN
METHOD:PUBLISH
X-ORIGINAL-URL:https://bolerosnort.com
X-WR-CALDESC:Events for Bolero Snort Brewery
REFRESH-INTERVAL;VALUE=DURATION:PT1H
X-Robots-Tag:noindex
X-PUBLISHED-TTL:PT1H
BEGIN:VTIMEZONE
TZID:America/New_York
BEGIN:DAYLIGHT
TZOFFSETFROM:-0500
TZOFFSETTO:-0400
TZNAME:EDT
DTSTART:20250309T070000
END:DAYLIGHT
BEGIN:STANDARD
TZOFFSETFROM:-0400
TZOFFSETTO:-0500
TZNAME:EST
DTSTART:20251102T060000
END:STANDARD
BEGIN:DAYLIGHT
TZOFFSETFROM:-0500
TZOFFSETTO:-0400
TZNAME:EDT
DTSTART:20260308T070000
END:DAYLIGHT
BEGIN:STANDARD
TZOFFSETFROM:-0400
TZOFFSETTO:-0500
TZNAME:EST
DTSTART:20261101T060000
END:STANDARD
BEGIN:DAYLIGHT
TZOFFSETFROM:-0500
TZOFFSETTO:-0400
TZNAME:EDT
DTSTART:20270314T070000
END:DAYLIGHT
BEGIN:STANDARD
TZOFFSETFROM:-0400
TZOFFSETTO:-0500
TZNAME:EST
DTSTART:20271107T060000
END:STANDARD
END:VTIMEZONE
BEGIN:VEVENT
DTSTART;TZID=America/New_York:20260227T150000
DTEND;TZID=America/New_York:20260301T180000
DTSTAMP:20260423T031138
CREATED:20260225T172037Z
LAST-MODIFIED:20260225T172037Z
UID:5662-1772204400-1772388000@bolerosnort.com
SUMMARY:All Weekend | Oui Chef Pizza Truck Pop Up
DESCRIPTION:Enjoy the delicious pizza\, pasta\, sandwiches and more from the family behind Oui Chef Pizza. \nFriday (2pm – Close)  \nSaturday (12pm – Close)  \nSunday (1pm – Close) 
URL:https://bolerosnort.com/event/all-weekend-oui-chef-pizza-truck-pop-up-2/
LOCATION:Bolero Snort Brewery\, 316 20th Street\, Carlstadt\, NJ\, 07072\, United States
END:VEVENT
BEGIN:VEVENT
DTSTART;TZID=America/New_York:20260227T200000
DTEND;TZID=America/New_York:20260227T213000
DTSTAMP:20260423T031138
CREATED:20260225T161130Z
LAST-MODIFIED:20260225T161130Z
UID:5641-1772222400-1772227800@bolerosnort.com
SUMMARY:Next Stop Comedy Presents: Stand Up
DESCRIPTION:Next Stop Comedy returns with an awesome lineup of local stand ups. Enjoy laughing with friends or even come on down solo and have some local craft beer\,  great pizza and a much-needed night out. \nTickets are also available at the door but we recommend buying in advance. This event takes place in our upstairs tasting room which has it’s own bar + bathroom.
URL:https://bolerosnort.com/event/next-stop-comedy-presents-stand-up-3/
LOCATION:Bolero Snort Brewery\, 316 20th Street\, Carlstadt\, NJ\, 07072\, United States
END:VEVENT
END:VCALENDAR