BEGIN:VCALENDAR
VERSION:2.0
PRODID:-//Bolero Snort Brewery - ECPv6.15.20//NONSGML v1.0//EN
CALSCALE:GREGORIAN
METHOD:PUBLISH
X-ORIGINAL-URL:https://bolerosnort.com
X-WR-CALDESC:Events for Bolero Snort Brewery
REFRESH-INTERVAL;VALUE=DURATION:PT1H
X-Robots-Tag:noindex
X-PUBLISHED-TTL:PT1H
BEGIN:VTIMEZONE
TZID:America/New_York
BEGIN:DAYLIGHT
TZOFFSETFROM:-0500
TZOFFSETTO:-0400
TZNAME:EDT
DTSTART:20240310T070000
END:DAYLIGHT
BEGIN:STANDARD
TZOFFSETFROM:-0400
TZOFFSETTO:-0500
TZNAME:EST
DTSTART:20241103T060000
END:STANDARD
BEGIN:DAYLIGHT
TZOFFSETFROM:-0500
TZOFFSETTO:-0400
TZNAME:EDT
DTSTART:20250309T070000
END:DAYLIGHT
BEGIN:STANDARD
TZOFFSETFROM:-0400
TZOFFSETTO:-0500
TZNAME:EST
DTSTART:20251102T060000
END:STANDARD
BEGIN:DAYLIGHT
TZOFFSETFROM:-0500
TZOFFSETTO:-0400
TZNAME:EDT
DTSTART:20260308T070000
END:DAYLIGHT
BEGIN:STANDARD
TZOFFSETFROM:-0400
TZOFFSETTO:-0500
TZNAME:EST
DTSTART:20261101T060000
END:STANDARD
END:VTIMEZONE
BEGIN:VEVENT
DTSTART;TZID=America/New_York:20250821T160000
DTEND;TZID=America/New_York:20250821T203000
DTSTAMP:20260422T221756
CREATED:20250813T162050Z
LAST-MODIFIED:20250813T162152Z
UID:5310-1755792000-1755808200@bolerosnort.com
SUMMARY:Tenmomi Ramen Pop Up
DESCRIPTION:The king of ramen returns to the brewery. When KC comes\, he always brings something unique — mouth-watering lumpia\, bao\, ramen and more. \nCheck out his instagram for menu items day of. \nTenmomi Ramen is based out of Nutley\, NJ.
URL:https://bolerosnort.com/event/tenmomi-ramen-pop-up/
LOCATION:Bolero Snort Brewery\, 316 20th Street\, Carlstadt\, NJ\, 07072\, United States
END:VEVENT
BEGIN:VEVENT
DTSTART;TZID=America/New_York:20250821T170000
DTEND;TZID=America/New_York:20250821T210000
DTSTAMP:20260422T221756
CREATED:20250813T162827Z
LAST-MODIFIED:20250813T162827Z
UID:5316-1755795600-1755810000@bolerosnort.com
SUMMARY:Every Thursday! Vintage Night: Barrels + Beats
DESCRIPTION:Join us to try a unique\, vintage barrel aged Bolero Snort stout every Thursday at the brewery. \nOur friends from Soldato Records (Rutherford\, NJ) will be spinning old school vinyls and bumping immaculate vibes. \nThere are no tickets for sale\, just pay for your beers and get lost in the music. \nCan you say #ThrowbackThursday?
URL:https://bolerosnort.com/event/every-thursday-vintage-night-barrels-beats-2/
LOCATION:Bolero Snort Brewery\, 316 20th Street\, Carlstadt\, NJ\, 07072\, United States
ORGANIZER;CN="Bolero Snort Brewery":MAILTO:info@bolerosnort.com
END:VEVENT
END:VCALENDAR