BEGIN:VCALENDAR
VERSION:2.0
PRODID:-//Bolero Snort Brewery - ECPv6.15.20//NONSGML v1.0//EN
CALSCALE:GREGORIAN
METHOD:PUBLISH
X-ORIGINAL-URL:https://bolerosnort.com
X-WR-CALDESC:Events for Bolero Snort Brewery
REFRESH-INTERVAL;VALUE=DURATION:PT1H
X-Robots-Tag:noindex
X-PUBLISHED-TTL:PT1H
BEGIN:VTIMEZONE
TZID:America/New_York
BEGIN:DAYLIGHT
TZOFFSETFROM:-0500
TZOFFSETTO:-0400
TZNAME:EDT
DTSTART:20210314T070000
END:DAYLIGHT
BEGIN:STANDARD
TZOFFSETFROM:-0400
TZOFFSETTO:-0500
TZNAME:EST
DTSTART:20211107T060000
END:STANDARD
BEGIN:DAYLIGHT
TZOFFSETFROM:-0500
TZOFFSETTO:-0400
TZNAME:EDT
DTSTART:20220313T070000
END:DAYLIGHT
BEGIN:STANDARD
TZOFFSETFROM:-0400
TZOFFSETTO:-0500
TZNAME:EST
DTSTART:20221106T060000
END:STANDARD
BEGIN:DAYLIGHT
TZOFFSETFROM:-0500
TZOFFSETTO:-0400
TZNAME:EDT
DTSTART:20230312T070000
END:DAYLIGHT
BEGIN:STANDARD
TZOFFSETFROM:-0400
TZOFFSETTO:-0500
TZNAME:EST
DTSTART:20231105T060000
END:STANDARD
END:VTIMEZONE
BEGIN:VEVENT
DTSTART;TZID=America/New_York:20220723T130000
DTEND;TZID=America/New_York:20220723T183000
DTSTAMP:20260420T021423
CREATED:20220627T184359Z
LAST-MODIFIED:20220627T185941Z
UID:4216-1658581200-1658601000@bolerosnort.com
SUMMARY:Ink and Drink
DESCRIPTION:Join us as we host artist Jay Hernandez and the Heart of Hearts Tattoo Co. as we host our first annual Ink and Drink! Come hang a beer and get a flash tattoo all at the same place. \nMore details to come.
URL:https://bolerosnort.com/event/ink-and-drink/
LOCATION:Bolero Snort Brewery\, 316 20th Street\, Carlstadt\, NJ\, 07072\, United States
ATTACH;FMTTYPE=image/jpeg:https://bolerosnort.com/wp-content/uploads/2022/06/JHlogo2-scaled.jpg
END:VEVENT
END:VCALENDAR